BEGIN:VCALENDAR
VERSION:2.0
PRODID:-//ChamberMaster//Event Calendar 2.0//EN
METHOD:PUBLISH
X-PUBLISHED-TTL:P3D
REFRESH-INTERVAL:P3D
CALSCALE:GREGORIAN
BEGIN:VEVENT
DTSTART:20250914T170000Z
DTEND:20250914T210000Z
X-MICROSOFT-CDO-ALLDAYEVENT:FALSE
SUMMARY:Fall Mosaics Class
DESCRIPTION:In this class you will get a brief rundown of the tools and adhesives used to make your mosaic project. Grouting will most likely happen in class\; however\, grouting can be done at home if you run out of time. It is important to come with ideas to have a successful class. Pinterest has a bunch of inspiration. Charcuterie will be provided due to the length of the class. Please bring what you would like to drink.\n\nAge 10+\n\nI cut all the base shapes by hand so be prepared to choose a shape for each ticket from the event photo when registering.
X-ALT-DESC;FMTTYPE=text/html:<p style="text-align:initial">In this class you will get a brief rundown of the tools and adhesives used to make your mosaic project. Grouting will most likely happen in class\; however\, grouting can be done at home if you run out of time. It is important to come with ideas to have a successful class. Pinterest has a bunch of inspiration. Charcuterie will be provided due to the length of the class. Please bring what you would like to drink.<br />\n<span style="text-align:initial">Age 10+</span><br />\n<span style="text-align:initial">I cut all the base shapes by hand so be prepared to choose a shape for each ticket from the event photo when registering.</span></p>\n
LOCATION:HelloHandmade
UID:e.820.47023
SEQUENCE:3
DTSTAMP:20260423T134053Z
URL:https://business.carsonvalleynv.org/events/details/fall-mosaics-class-47023
END:VEVENT

END:VCALENDAR
