BEGIN:VCALENDAR
VERSION:2.0
PRODID:-//ChamberMaster//Event Calendar 2.0//EN
METHOD:PUBLISH
X-PUBLISHED-TTL:P3D
REFRESH-INTERVAL:P3D
CALSCALE:GREGORIAN
BEGIN:VEVENT
DTSTART:20250928T190000Z
DTEND:20250928T220000Z
X-MICROSOFT-CDO-ALLDAYEVENT:FALSE
SUMMARY:Fall In Love Marriage Expo
DESCRIPTION:Get ready to plan your dream wedding at Fall in Love Marriage Expo! Organized by Weddings of the West\, this premier wedding show brings together professional\, licensed wedding vendors from every category to help you create your perfect day. Meet the Experts: Connect with top-tier wedding planners\, photographers\, florists\, venues\, and more\, all in one place. Taste & Sip: Indulge in delectable cuisine and beverages from the finest caterers and mixologists. Stay on Trend: Explore the latest wedding styles and trends for 2025 and 2026\, from d cor inspiration to fashion-forward bridal looks.
X-ALT-DESC;FMTTYPE=text/html:Get ready to plan your dream wedding at Fall in Love Marriage Expo! Organized by Weddings of the West\, this premier wedding show brings together professional\, licensed wedding vendors from every category to help you create your perfect day. Meet the Experts: Connect with top-tier wedding planners\, photographers\, florists\, venues\, and more\, all in one place. Taste &amp\; Sip: Indulge in delectable cuisine and beverages from the finest caterers and mixologists. Stay on Trend: Explore the latest wedding styles and trends for 2025 and 2026\, from d&eacute\;cor inspiration to fashion-forward bridal looks.
LOCATION:Jacobs Berry Farm 1335 Centerville Lane Gardnerville\, Nevada 89410
UID:e.820.46971
SEQUENCE:3
DTSTAMP:20260423T121220Z
URL:https://business.carsonvalleynv.org/events/details/fall-in-love-marriage-expo-46971
END:VEVENT

END:VCALENDAR
