BEGIN:VCALENDAR
VERSION:2.0
PRODID:-//ChamberMaster//Event Calendar 2.0//EN
METHOD:PUBLISH
X-PUBLISHED-TTL:P3D
REFRESH-INTERVAL:P3D
CALSCALE:GREGORIAN
BEGIN:VEVENT
DTSTART:20251006T150000Z
DTEND:20251006T220000Z
X-MICROSOFT-CDO-ALLDAYEVENT:FALSE
SUMMARY:Fall Classic Golf Tournament
DESCRIPTION:16th Annual Fall Classic Golf Tournament benefitting Carson Valley Health Foundation. Golf Prizes & Contests Breakfast & Lunch Included Raffle Prizes & more!
X-ALT-DESC;FMTTYPE=text/html:16th Annual Fall Classic Golf Tournament benefitting Carson Valley Health Foundation. Golf Prizes &amp\; Contests Breakfast &amp\; Lunch Included Raffle Prizes &amp\; more!
LOCATION:Sunridge Golf & Recreations 1000 Long Dr.\, Carson City\, NV
UID:e.820.46165
SEQUENCE:3
DTSTAMP:20260423T135035Z
URL:https://business.carsonvalleynv.org/events/details/fall-classic-golf-tournament-10-06-2025-46165
END:VEVENT

END:VCALENDAR
