BEGIN:VCALENDAR
VERSION:2.0
PRODID:-//ChamberMaster//Event Calendar 2.0//EN
METHOD:PUBLISH
X-PUBLISHED-TTL:P3D
REFRESH-INTERVAL:P3D
CALSCALE:GREGORIAN
BEGIN:VEVENT
DTSTART:20250930T230000Z
DTEND:20251001T030000Z
X-MICROSOFT-CDO-ALLDAYEVENT:FALSE
SUMMARY:Esmeralda Farmer's Markets
DESCRIPTION:Farmers Market
X-ALT-DESC;FMTTYPE=text/html:Farmers Market
LOCATION:Downtown Minden Esmeralda Ave Minden\, NV 89423
UID:e.820.46401
SEQUENCE:3
DTSTAMP:20260423T135240Z
URL:https://business.carsonvalleynv.org/events/details/esmeralda-farmer-s-markets-09-30-2025-46401
END:VEVENT

END:VCALENDAR
