BEGIN:VCALENDAR
VERSION:2.0
PRODID:-//ChamberMaster//Event Calendar 2.0//EN
METHOD:PUBLISH
X-PUBLISHED-TTL:P3D
REFRESH-INTERVAL:P3D
CALSCALE:GREGORIAN
BEGIN:VEVENT
DTSTART:20250916T230000Z
DTEND:20250917T030000Z
X-MICROSOFT-CDO-ALLDAYEVENT:FALSE
SUMMARY:Esmeralda Farmer's Markets
DESCRIPTION:Farmer's Market
X-ALT-DESC;FMTTYPE=text/html:Farmer&#39\;s Market
LOCATION:Downtown Minden Esmeralda Ave Minden\, NV 89423
UID:e.820.46399
SEQUENCE:3
DTSTAMP:20260423T121824Z
URL:https://business.carsonvalleynv.org/events/details/esmeralda-farmer-s-markets-09-16-2025-46399
END:VEVENT

END:VCALENDAR
