BEGIN:VCALENDAR
VERSION:2.0
PRODID:-//ChamberMaster//Event Calendar 2.0//EN
METHOD:PUBLISH
X-PUBLISHED-TTL:P3D
REFRESH-INTERVAL:P3D
CALSCALE:GREGORIAN
BEGIN:VEVENT
DTSTART:20161207T200000Z
DTEND:20161207T210000Z
X-MICROSOFT-CDO-ALLDAYEVENT:FALSE
SUMMARY:Employee Rights Relating to Pregnancy\, Parenting and Family Issues Webinar
DESCRIPTION:Presented by: Attorney Brett Sutton of Sutton Hague Law Corporation Participants will be eligible for SHRM & HRCI Credit (1 Hour) Open to any Nevada employer or employee who would like to learn more on the subject.
X-ALT-DESC;FMTTYPE=text/html:Presented by: Attorney Brett Sutton of Sutton Hague Law Corporation Participants will be eligible for SHRM &amp\; HRCI Credit (1 Hour) Open to any Nevada employer or employee who would like to learn more on the subject.
LOCATION:Online
UID:e.820.21497
SEQUENCE:3
DTSTAMP:20260423T122623Z
URL:https://business.carsonvalleynv.org/events/details/employee-rights-relating-to-pregnancy-parenting-and-family-issues-webinar-21497
END:VEVENT

END:VCALENDAR
