BEGIN:VCALENDAR
VERSION:2.0
PRODID:-//ChamberMaster//Event Calendar 2.0//EN
METHOD:PUBLISH
X-PUBLISHED-TTL:P3D
REFRESH-INTERVAL:P3D
CALSCALE:GREGORIAN
BEGIN:VEVENT
DTSTART:20160327T000000Z
DTEND:20160327T030000Z
X-MICROSOFT-CDO-ALLDAYEVENT:FALSE
SUMMARY:Elks honor "Citizen of the Year" Dinner
DESCRIPTION:Elks honor 'Citizen of the Year'\n\nSaturday March 26 we will announce this year's 'Citizen of the Year'.  This is a very special event and this year you will not want to miss it.  Held at Elks Lodge\, 1227 Kimmerling Road\, Gardnerville Ranchos off Highway 88.\n\nCost: $15.00/per person. Menu: Napa Valley Chicken with all the trimmings. Please plan to join us at this event and make the new 'Citizen of the Year' feel appreciated and recognized for all the good they have done.  Open to the public. Social 5:00 PM\, dinner 6:00 PM followed by formal presentation.\n\n Sign-ups call Rich or Mary Retterer at 392-2249 and leave a message.
X-ALT-DESC;FMTTYPE=text/html:<span style="font-size: medium\;"><strong><span style="font-family: helvetica\,sans-serif\;"><span style="color: black\;">Elks honor &lsquo\;Citizen of the Year&rsquo\;</span></span></strong></span><br />\n<span style="font-family: helvetica\,sans-serif\;"><span style="color: black\;"><span style="font-size: medium\;">Saturday March 26 we will announce this year&rsquo\;s &lsquo\;Citizen of the Year&rsquo\;.&nbsp\; This is a very special event and this year you will not want to miss it.&nbsp\; Held at Elks Lodge\, 1227 Kimmerling Road\, Gardnerville Ranchos off Highway 88.</span></span></span><br />\n<span style="font-family: helvetica\,sans-serif\;"><span style="color: black\;"><span style="font-size: medium\;">Cost: $15.00/per person. Menu: Napa Valley Chicken with all the trimmings. Please plan to join us at this event and make the new &lsquo\;Citizen of the Year&rsquo\; feel appreciated and recognized for all the good they have done.&nbsp\; Open to the public. Social 5:00 PM\, dinner 6:00 PM followed by formal presentation.<br />\n&nbsp\;Sign-ups call Rich or Mary Retterer at 392-2249 and leave a message.</span></span></span><br />\n&nbsp\;
LOCATION:
UID:e.820.17500
SEQUENCE:3
DTSTAMP:20260425T154701Z
URL:https://business.carsonvalleynv.org/events/details/elks-honor-citizen-of-the-year-dinner-03-26-2016-17500
END:VEVENT

END:VCALENDAR
