BEGIN:VCALENDAR
VERSION:2.0
PRODID:-//ChamberMaster//Event Calendar 2.0//EN
METHOD:PUBLISH
X-PUBLISHED-TTL:P3D
REFRESH-INTERVAL:P3D
CALSCALE:GREGORIAN
BEGIN:VEVENT
DTSTART:20150927T153000Z
DTEND:20150927T173000Z
X-MICROSOFT-CDO-ALLDAYEVENT:FALSE
SUMMARY:Elks Breakfast
DESCRIPTION:Tahoe-Douglas Elks host monthly family buffet breakfast\, includes eggs\, potatoes\, biscuits\, gravy\, pancakes\, bacon and sausage. An omelet bar\, coffee and juice also included.
X-ALT-DESC;FMTTYPE=text/html:Tahoe-Douglas Elks host monthly family buffet breakfast\, includes eggs\, potatoes\, biscuits\, gravy\, pancakes\, bacon and sausage. An omelet bar\, coffee and juice also included.
LOCATION:Elks Lodge 1227 Kimmerling Road Gardnerville Ranchos
UID:e.820.13661
SEQUENCE:3
DTSTAMP:20260426T014537Z
URL:https://business.carsonvalleynv.org/events/details/elks-breakfast-09-27-2015-13661
END:VEVENT

END:VCALENDAR
