BEGIN:VCALENDAR
VERSION:2.0
PRODID:-//ChamberMaster//Event Calendar 2.0//EN
METHOD:PUBLISH
X-PUBLISHED-TTL:P3D
REFRESH-INTERVAL:P3D
CALSCALE:GREGORIAN
BEGIN:VEVENT
DTSTART:20150920T133000Z
DTEND:20150921T003000Z
X-MICROSOFT-CDO-ALLDAYEVENT:FALSE
SUMMARY:Edible Pedal 100®
DESCRIPTION:The Edible Pedal 100  is a fundraiser for the Rotary Club of Reno Sunrise taking place September 20\, 2015. In cycling terms it's a century bike ride (not a race). A century ride is typically an organized 100-mile road bike ride that includes rest stops every 15-20 miles. The Edible Pedal 100  includes three ride distances: 10\, 50 and 100. Start times are staggered with the 100 milers leaving first. Plus we have a fabulous post ride barbecue featuring locally sourced food.
X-ALT-DESC;FMTTYPE=text/html:The Edible Pedal 100&reg\; is a fundraiser for the Rotary Club of Reno Sunrise taking place September 20\, 2015. In cycling terms it&#39\;s a century bike ride (not a race). A century ride is typically an organized 100-mile road bike ride that includes rest stops every 15-20 miles. The Edible Pedal 100&reg\; includes three ride distances: 10\, 50 and 100. Start times are staggered with the 100 milers leaving first. Plus we have a fabulous post ride barbecue featuring locally sourced food.
LOCATION:Bowers Mansion Regional Park\, between Reno and Carson City\, NV. 4005 Old Highway 395 North\, Washoe Valley\, NV 89704
UID:e.820.11181
SEQUENCE:3
DTSTAMP:20260426T015946Z
URL:https://business.carsonvalleynv.org/events/details/edible-pedal-100-09-20-2015-11181
END:VEVENT

END:VCALENDAR
