BEGIN:VCALENDAR
VERSION:2.0
PRODID:-//ChamberMaster//Event Calendar 2.0//EN
METHOD:PUBLISH
X-PUBLISHED-TTL:P3D
REFRESH-INTERVAL:P3D
CALSCALE:GREGORIAN
BEGIN:VEVENT
DTSTART:20250927T160000Z
DTEND:20250927T220000Z
X-MICROSOFT-CDO-ALLDAYEVENT:FALSE
SUMMARY:Early Day Gas Engine
DESCRIPTION:Join the fun at the Donovan Mill to see hit n miss engines\, old tractors\, gold panning demonstration\, blacksmithing demonstrations and Mill tours. September 27th\, 9:00 am to 3:00 pm\, at the Donovan Mill\, Silver City.
X-ALT-DESC;FMTTYPE=text/html:Join the fun at the Donovan Mill to see hit n miss engines\, old tractors\, gold panning demonstration\, blacksmithing demonstrations and Mill tours. September 27th\, 9:00 am to 3:00 pm\, at the Donovan Mill\, Silver City.
LOCATION:Donovan Mill\, Silver City
UID:e.820.47017
SEQUENCE:3
DTSTAMP:20260423T120818Z
URL:https://business.carsonvalleynv.org/events/details/early-day-gas-engine-47017
END:VEVENT

END:VCALENDAR
