BEGIN:VCALENDAR
VERSION:2.0
PRODID:-//ChamberMaster//Event Calendar 2.0//EN
METHOD:PUBLISH
X-PUBLISHED-TTL:P3D
REFRESH-INTERVAL:P3D
CALSCALE:GREGORIAN
BEGIN:VEVENT
DTSTART:20251216T170000Z
DTEND:20251217T000000Z
X-MICROSOFT-CDO-ALLDAYEVENT:FALSE
SUMMARY:Douglas Extension Open House
DESCRIPTION:Come celebrate the holidays with us! Enjoy coffee\, cocoa\, tea\, and treats among Extension staff and volunteers and learn about the programs we offer. Take home a plant and holiday craft!
X-ALT-DESC;FMTTYPE=text/html:Come celebrate the holidays with us! Enjoy coffee\, cocoa\, tea\, and treats among Extension staff and volunteers and learn about the programs we offer. Take home a plant and holiday craft!
LOCATION:1325 Waterloo Lane Gardnerville\, NV 89410
UID:e.820.47160
SEQUENCE:3
DTSTAMP:20260423T163410Z
URL:https://business.carsonvalleynv.org/events/details/douglas-extension-open-house-47160
END:VEVENT

END:VCALENDAR
