BEGIN:VCALENDAR
VERSION:2.0
PRODID:-//ChamberMaster//Event Calendar 2.0//EN
METHOD:PUBLISH
X-PUBLISHED-TTL:P3D
REFRESH-INTERVAL:P3D
CALSCALE:GREGORIAN
BEGIN:VEVENT
DTSTART;VALUE=DATE:20150911
DTEND;VALUE=DATE:20150913
TRANSP:TRANSPARENT
X-MICROSOFT-CDO-ALLDAYEVENT:TRUE
SUMMARY:Douglas Elk Rummage Sale
DESCRIPTION:Tahoe Douglas Elks Annual Flea Market\n\nFriday 7am - 3pm\n\nSaturday 8am - 2pm
X-ALT-DESC;FMTTYPE=text/html:Tahoe Douglas Elks Annual Flea Market<br />\nFriday 7am - 3pm<br />\nSaturday 8am - 2pm
LOCATION:at the lodge: 1227 Kimmerling Road Gardnerville
UID:e.820.12809
SEQUENCE:3
DTSTAMP:20260426T015618Z
URL:https://business.carsonvalleynv.org/events/details/douglas-elk-rummage-sale-09-11-2015-12809
END:VEVENT

END:VCALENDAR
