BEGIN:VCALENDAR
VERSION:2.0
PRODID:-//ChamberMaster//Event Calendar 2.0//EN
METHOD:PUBLISH
X-PUBLISHED-TTL:P3D
REFRESH-INTERVAL:P3D
CALSCALE:GREGORIAN
BEGIN:VEVENT
DTSTART:20160728T160000Z
DTEND:20160730T230000Z
X-MICROSOFT-CDO-ALLDAYEVENT:FALSE
SUMMARY:Douglas County Recreation Game Time Basketball Camp
DESCRIPTION:Douglas County Recreation\n\nGame Time Basketball Camp\n\nAges: 8-18\, all ability levels\, Co-Ed\n\nInstructor: Gil Liewellyn\n\nThis camp will teach the fundamentals of basketball including ball handling\, shooting\, defense\, footwork and rebounding.  They will also expand on the fundamentals to more intricate parts of the game as appropriate to age and ability.  For more information go to\n\nwww.gametimebasketballcamps.com
X-ALT-DESC;FMTTYPE=text/html:<div style="text-align: center\;">Douglas County Recreation<br />\nGame Time Basketball Camp<br />\nAges: 8-18\, all ability levels\, Co-Ed<br />\nInstructor: Gil Liewellyn<br />\nThis camp will teach the fundamentals of basketball including ball handling\, shooting\, defense\, footwork and rebounding.&nbsp\; They will also expand on the fundamentals to more intricate parts of the game as appropriate to age and ability.&nbsp\; For more information go to<br />\n<a href="http://www.gametimebasketballcamps.com">www.gametimebasketballcamps.com</a><br />\n<br />\n&nbsp\;</div>\n
LOCATION:Douglas County Community & Senior Center 1329 Waterloo Lane Gardnerville NV
UID:e.820.18894
SEQUENCE:3
DTSTAMP:20260423T184305Z
URL:https://business.carsonvalleynv.org/events/details/douglas-county-recreation-game-time-basketball-camp-07-28-2016-18894
END:VEVENT

END:VCALENDAR
