BEGIN:VCALENDAR
VERSION:2.0
PRODID:-//ChamberMaster//Event Calendar 2.0//EN
METHOD:PUBLISH
X-PUBLISHED-TTL:P3D
REFRESH-INTERVAL:P3D
CALSCALE:GREGORIAN
BEGIN:VEVENT
DTSTART:20260425T160000Z
DTEND:20260425T220000Z
X-MICROSOFT-CDO-ALLDAYEVENT:FALSE
SUMMARY:Donovan Stamp Mill Tours\, Blacksmithing\, Gold Panning
DESCRIPTION:On April 25th we will be giving tours\, operating the main stamps and the rotary stamps. Additionally there will be gold panning demonstrations and blacksmithing. The event will be at the Donovan Mill\, 900 Main Street\, Silver City\, NV. Open from 9:00 to 3:00\, $20 for tours\, 12 and under free.
X-ALT-DESC;FMTTYPE=text/html:On April 25th we will be giving tours\, operating the main stamps and the rotary stamps. Additionally there will be gold panning demonstrations and blacksmithing. The event will be at the Donovan Mill\, 900 Main Street\, Silver City\, NV. Open from 9:00 to 3:00\, $20 for tours\, 12 and under free.
LOCATION:Donovan Mill\, 900 Main St\, Silver City
UID:e.820.47332
SEQUENCE:3
DTSTAMP:20260424T192441Z
URL:https://business.carsonvalleynv.org/events/details/donovan-stamp-mill-tours-blacksmithing-gold-panning-47332
END:VEVENT

END:VCALENDAR
