BEGIN:VCALENDAR
VERSION:2.0
PRODID:-//ChamberMaster//Event Calendar 2.0//EN
METHOD:PUBLISH
X-PUBLISHED-TTL:P3D
REFRESH-INTERVAL:P3D
CALSCALE:GREGORIAN
BEGIN:VEVENT
DTSTART;VALUE=DATE:20200227
DTEND;VALUE=DATE:20200302
TRANSP:TRANSPARENT
X-MICROSOFT-CDO-ALLDAYEVENT:TRUE
SUMMARY:DCHS Melodrama
DESCRIPTION:Douglas County Historical Society hosts\n\nAnnual Melodrama\n\n\n\nMurder-Mystery\n\n\n\nMORE INFORMATION TBA
X-ALT-DESC;FMTTYPE=text/html:Douglas County Historical Society hosts<br />\nAnnual Melodrama<br />\n<br />\nMurder-Mystery<br />\n<br />\nMORE INFORMATION TBA
LOCATION:Carson Valley Museum & Cultural Center 1477 US Hwy 395 N. Gardnerville\, NV
UID:e.820.32321
SEQUENCE:3
DTSTAMP:20260425T121937Z
URL:https://business.carsonvalleynv.org/events/details/dchs-melodrama-32321
END:VEVENT

END:VCALENDAR
