BEGIN:VCALENDAR
VERSION:2.0
PRODID:-//ChamberMaster//Event Calendar 2.0//EN
METHOD:PUBLISH
X-PUBLISHED-TTL:P3D
REFRESH-INTERVAL:P3D
CALSCALE:GREGORIAN
BEGIN:VEVENT
DTSTART:20160214T013000Z
DTEND:20160214T050000Z
X-MICROSOFT-CDO-ALLDAYEVENT:FALSE
SUMMARY:DAWG Presents My Funny Valentine Dinner & Comedy Show
DESCRIPTION:My Funny Valentine Dinner & Comedy Show is an event to raise much needed funds for the Douglas Animal Welfare Group which supports the Douglas County Animal Shelter and the Douglas County community.  During the cocktail portion of the event\, local "Community Cupids" will be on the stage trying to raise enough funds to earn their cupid wings and win the Top DAWG Award.  Following this fun-filled portion of the event\, a delicious buffet dinner will be provided during which time attendees will hear about all of the things that DAWG does for the shelter and the community and how the funds raised from this event will be used.  A professional comedian will present a hilarious show following dinner and the evening will end with a live auction and raffle drawings for some wonderful prizes.
X-ALT-DESC;FMTTYPE=text/html:My Funny Valentine Dinner &amp\; Comedy Show is an event to raise much needed funds for the Douglas Animal Welfare Group which supports the Douglas County Animal Shelter and the Douglas County community.&nbsp\; During the cocktail portion of the event\, local &quot\;Community Cupids&quot\; will be on the stage trying to raise enough funds to earn their cupid wings and win the Top DAWG Award.&nbsp\; Following this fun-filled portion of the event\, a delicious buffet dinner will be provided during which time attendees will hear about all of the things that DAWG does for the shelter and the community and how the funds raised from this event will be used.&nbsp\; A professional comedian will present a hilarious show following dinner and the evening will end with a live auction and raffle drawings for some wonderful prizes.
LOCATION:Carson Valley Inn & Casino - Ballroom Minden NV
UID:e.820.17370
SEQUENCE:3
DTSTAMP:20260425T172503Z
URL:https://business.carsonvalleynv.org/events/details/dawg-presents-my-funny-valentine-dinner-comedy-show-02-13-2016-17370
END:VEVENT

END:VCALENDAR
