BEGIN:VCALENDAR
VERSION:2.0
PRODID:-//ChamberMaster//Event Calendar 2.0//EN
METHOD:PUBLISH
X-PUBLISHED-TTL:P3D
REFRESH-INTERVAL:P3D
CALSCALE:GREGORIAN
BEGIN:VEVENT
DTSTART:20150807T013000Z
DTEND:20150807T023000Z
X-MICROSOFT-CDO-ALLDAYEVENT:FALSE
SUMMARY:Dangberg Twilight Concert
DESCRIPTION:Dangberg Twilight Concerts ~ A series of six Thursday evening concerts showcasing new finds\, local talent and unique acts. All shows are 6:30-7:30pm\; adults $5\, 16 and younger free\, Friends of Dangberg members free. Sponsored by Bently Ranch\, SoaringNV\, The Record-Courier\, Dr. James the Dentist\, Joyce's Fine Jewelry\, Douglas County and the Frances C. and William P. Smallwood Foundation. ]\n\n          June 11: Ciana\n\n          June 25: The Jug Stompers\n\n          The June 11 and 25 concerts are funded in part by the Nevada Arts Council\, a state agency\, and the National Endowment for the Arts\, a federal agency.\n\n          July 9: Jesse Kalin\n\n          July 30: Monique de Haviland and Mark Cromer\n\n          August 6: Milton Merlos\n\n          August 27: The Mountain Girls
X-ALT-DESC;FMTTYPE=text/html:<p><strong>Dangberg Twilight Concerts </strong>~ A series of six Thursday evening concerts showcasing new finds\, local talent and unique acts. All shows are 6:30-7:30pm\; adults $5\, 16 and younger free\, Friends of Dangberg members free. Sponsored by Bently Ranch\, SoaringNV\, <em>The Record-Courier</em>\, Dr. James the Dentist\, Joyce&rsquo\;s Fine Jewelry\, Douglas County and the Frances C. and William P. Smallwood Foundation. ]</p>\n\n<p><em>&nbsp\; &nbsp\; &nbsp\; &nbsp\; &nbsp\;&nbsp\;</em>June 11: Ciana</p>\n\n<p><em>&nbsp\; &nbsp\; &nbsp\; &nbsp\; &nbsp\;&nbsp\;</em>June 25: The Jug Stompers<br />\n<em>&nbsp\; &nbsp\; &nbsp\; &nbsp\; &nbsp\;&nbsp\;</em>The June 11 and 25 concerts are funded in part by the Nevada Arts Council\, a state agency\, and the National Endowment for the Arts\, a federal agency.</p>\n\n<p><em>&nbsp\; &nbsp\; &nbsp\; &nbsp\; &nbsp\;&nbsp\;</em>July 9: Jesse Kalin</p>\n\n<p><em>&nbsp\; &nbsp\; &nbsp\; &nbsp\; &nbsp\;&nbsp\;</em>July 30: Monique de Haviland and Mark Cromer</p>\n\n<p><em>&nbsp\; &nbsp\; &nbsp\; &nbsp\; &nbsp\;&nbsp\;</em>August 6: Milton Merlos</p>\n\n<p><em>&nbsp\; &nbsp\; &nbsp\; &nbsp\; &nbsp\;&nbsp\;</em>August 27: The Mountain Girls</p>\n
LOCATION:Dangberg Home Ranch Historic Park 1450 Hwy. 88
UID:e.820.12782
SEQUENCE:3
DTSTAMP:20260426T032420Z
URL:https://business.carsonvalleynv.org/events/details/dangberg-twilight-concert-08-06-2015-12782
END:VEVENT

END:VCALENDAR
