BEGIN:VCALENDAR
VERSION:2.0
PRODID:-//ChamberMaster//Event Calendar 2.0//EN
METHOD:PUBLISH
X-PUBLISHED-TTL:P3D
REFRESH-INTERVAL:P3D
CALSCALE:GREGORIAN
BEGIN:VEVENT
DTSTART:20251115T223000Z
DTEND:20251116T023000Z
X-MICROSOFT-CDO-ALLDAYEVENT:FALSE
SUMMARY:CV Flyte Creative Series
DESCRIPTION:Join CV Flyte on November 15\, 2025\, in Minden from 2:30pm-6:30pm for this class led by NV Silverworks. In this class you will choose a stone and make a bar necklace form start to finish. Techniques covered will include Bezel-making\, soldering\, sanding oxidation\, polishing\, and stone setting. Previous silversmithing experience is not necessary\, all materials and supplies included   Other shaped stones will also be available. Class includes one drink from CV Flyte! Tickets are $150 and must be purchased in advance. Spots are extremely limited\, so reserve today! For more information and a link to sign up\, check out the CV Flyte website\, or check their page on Facebook for other news and updates.
X-ALT-DESC;FMTTYPE=text/html:Join CV Flyte on November 15\, 2025\, in Minden from 2:30pm-6:30pm for this class led by NV Silverworks. In this class you will choose a stone and make a bar necklace form start to finish. Techniques covered will include Bezel-making\, soldering\, sanding oxidation\, polishing\, and stone setting. Previous silversmithing experience is not necessary\, all materials and supplies included &mdash\; Other shaped stones will also be available. Class includes one drink from CV Flyte! Tickets are $150 and must be purchased in advance. Spots are extremely limited\, so reserve today! For more information and a link to sign up\, check out the CV Flyte website\, or check their page on Facebook for other news and updates.
LOCATION:CV Flyte
UID:e.820.47147
SEQUENCE:3
DTSTAMP:20260423T152017Z
URL:https://business.carsonvalleynv.org/events/details/cv-flyte-creative-series-47147
END:VEVENT

END:VCALENDAR
