BEGIN:VCALENDAR
VERSION:2.0
PRODID:-//ChamberMaster//Event Calendar 2.0//EN
METHOD:PUBLISH
X-PUBLISHED-TTL:P3D
REFRESH-INTERVAL:P3D
CALSCALE:GREGORIAN
BEGIN:VEVENT
DTSTART:20160611T200000Z
DTEND:20160613T040000Z
X-MICROSOFT-CDO-ALLDAYEVENT:FALSE
SUMMARY:CV Days 3on3 BasketBall Tournament
DESCRIPTION:Carson Valley Days 3 on 3 Basketball Tournament\n\nJoin Douglas County Recreation & MEFIYI Foundation for a 3 on 3 Basketball Tournament\, beginning after the Carson Valley Days Parade.  Players are welcome to compete in two or more divisions.  All games will be played at the Douglas County Community Center.  Coster per team is $45.  To register and for more information go to The Douglas County Community Center or Call 775-782-5500 Ext. 1\n\n\n\nDivisions:\n\nGirls' & Boys'\n\nAges 8-12\n\nAges 13-15\n\nAges 16-18\n\n\n\nMen's & Women's\n\nUnder 40\n\nOver 40
X-ALT-DESC;FMTTYPE=text/html:Carson Valley Days 3 on 3 Basketball Tournament<br />\nJoin Douglas County Recreation &amp\; MEFIYI Foundation for a 3 on 3 Basketball Tournament\, beginning after the Carson Valley Days Parade.&nbsp\; Players are welcome to compete in two or more divisions.&nbsp\; All games will be played at the Douglas County Community Center.&nbsp\; Coster per team is $45.&nbsp\; To register and for more information go to&nbsp\;The Douglas County&nbsp\;Community Center or Call 775-782-5500 Ext. 1<br />\n<br />\nDivisions:<br />\nGirls&#39\; &amp\; Boys&#39\;<br />\nAges 8-12<br />\nAges 13-15<br />\nAges 16-18<br />\n<br />\nMen&#39\;s &amp\; Women&#39\;s<br />\nUnder 40<br />\nOver 40
LOCATION:Douglas County Community & Senior Center 1329 Waterloo Lane Gardnerville\, NV
UID:e.820.18893
SEQUENCE:3
DTSTAMP:20260423T203130Z
URL:https://business.carsonvalleynv.org/events/details/cv-days-3on3-basketball-tournament-06-11-2016-18893
END:VEVENT

END:VCALENDAR
