BEGIN:VCALENDAR
VERSION:2.0
PRODID:-//ChamberMaster//Event Calendar 2.0//EN
METHOD:PUBLISH
X-PUBLISHED-TTL:P3D
REFRESH-INTERVAL:P3D
CALSCALE:GREGORIAN
BEGIN:VEVENT
DTSTART:20151001T180000Z
DTEND:20151002T000000Z
X-MICROSOFT-CDO-ALLDAYEVENT:FALSE
SUMMARY:Corley Ranch Harvest Festival
DESCRIPTION:Corley Ranch 2015 Pumpkin Patch & Harvest Festival\n\n\n\nOpen on all Weekends in October.  There will be live entertainment\, vendors\, crafters\, food & drink\, petting zoo\, kiddie Land and bouncy house for kids 5 and under\, giant sling shot\, hay rides\, miniature horse rides\, miniature golf\, pig races and much more.\n\n\n\n \n\nDue to the drought we were unable to plant corn for the Corn Maze. \n\nWe sincerely apologize for the inconvenience as we know this is a favorite here at the Corley Ranch.
X-ALT-DESC;FMTTYPE=text/html:<p style="text-align: center\;"><span style="font-family: comic sans ms\;"><span style="font-size: 16px\;">Corley Ranch 2015 Pumpkin Patch &amp\; Harvest Festival</span><br />\n<br />\nOpen on all Weekends in October.&nbsp\; There will be live entertainment\, vendors\, crafters\, food &amp\; drink\, petting zoo\, kiddie Land and bouncy house for kids 5 and under\, giant sling shot\, hay rides\, miniature horse rides\, miniature golf\, pig races and much more.</span></p>\n\n<p><br />\n&nbsp\;</p>\n\n<p style="text-align: center\;"><strong><font color="#a52a2a" size="3">Due to the drought we were unable to plant corn for the Corn Maze.&nbsp\;<br />\nWe sincerely apologize for the inconvenience as we know this is a favorite here at the Corley Ranch.</font></strong></p>\n\n<p><br />\n<br />\n&nbsp\;</p>\n
LOCATION:Corley Ranch 859 Hwy 395 Gardnerville\, NV
UID:e.820.13688
SEQUENCE:3
DTSTAMP:20260426T001313Z
URL:https://business.carsonvalleynv.org/events/details/corley-ranch-harvest-festival-10-01-2015-13688
END:VEVENT

END:VCALENDAR
