BEGIN:VCALENDAR
VERSION:2.0
PRODID:-//ChamberMaster//Event Calendar 2.0//EN
METHOD:PUBLISH
X-PUBLISHED-TTL:P3D
REFRESH-INTERVAL:P3D
CALSCALE:GREGORIAN
BEGIN:VEVENT
DTSTART:20250913T010000Z
DTEND:20250913T030000Z
X-MICROSOFT-CDO-ALLDAYEVENT:FALSE
SUMMARY:Concert in the Park -- TBA
DESCRIPTION:Concert in the Park
X-ALT-DESC;FMTTYPE=text/html:Concert in the Park
LOCATION:Minden Park 1610 Esmeralda Ave Minden\, NV 89423
UID:e.820.46402
SEQUENCE:3
DTSTAMP:20260423T122032Z
URL:https://business.carsonvalleynv.org/events/details/concert-in-the-park-tba-09-12-2025-46402
END:VEVENT

END:VCALENDAR
