BEGIN:VCALENDAR
VERSION:2.0
PRODID:-//ChamberMaster//Event Calendar 2.0//EN
METHOD:PUBLISH
X-PUBLISHED-TTL:P3D
REFRESH-INTERVAL:P3D
CALSCALE:GREGORIAN
BEGIN:VEVENT
DTSTART:20150821T143000Z
DTEND:20150821T153000Z
X-MICROSOFT-CDO-ALLDAYEVENT:FALSE
SUMMARY:Coffee & Contacts
DESCRIPTION:Join WISE for our next morning coffee! This is a no-stress way to network earlier in the day. After introductions\, we have a roundtable discussion of issues pertinent to our businesses. Visit our website for details and to register.
X-ALT-DESC;FMTTYPE=text/html:Join WISE for our next morning coffee! This is a no-stress way to network earlier in the day. After introductions\, we have a roundtable discussion of issues pertinent to our businesses. Visit our website for details and to register.
LOCATION:88 Cups & More\, Minden Village
UID:e.820.13591
SEQUENCE:3
DTSTAMP:20260426T032201Z
URL:https://business.carsonvalleynv.org/events/details/coffee-contacts-08-21-2015-13591
END:VEVENT

END:VCALENDAR
