BEGIN:VCALENDAR
VERSION:2.0
PRODID:-//ChamberMaster//Event Calendar 2.0//EN
METHOD:PUBLISH
X-PUBLISHED-TTL:P3D
REFRESH-INTERVAL:P3D
CALSCALE:GREGORIAN
BEGIN:VEVENT
DTSTART:20251206T013000Z
DTEND:20251206T013000Z
X-MICROSOFT-CDO-ALLDAYEVENT:FALSE
SUMMARY:Christmas in Genoa
DESCRIPTION:Caroling\, Tree Lighting\, Santa
X-ALT-DESC;FMTTYPE=text/html:Caroling\, Tree Lighting\, Santa
LOCATION:Town Church & Main Street
UID:e.820.46954
SEQUENCE:3
DTSTAMP:20260423T182547Z
URL:https://business.carsonvalleynv.org/events/details/christmas-in-genoa-12-05-2025-46954
END:VEVENT

END:VCALENDAR
