BEGIN:VCALENDAR
VERSION:2.0
PRODID:-//ChamberMaster//Event Calendar 2.0//EN
METHOD:PUBLISH
X-PUBLISHED-TTL:P3D
REFRESH-INTERVAL:P3D
CALSCALE:GREGORIAN
BEGIN:VEVENT
DTSTART:20160707T013000Z
DTEND:20160707T030000Z
X-MICROSOFT-CDO-ALLDAYEVENT:FALSE
SUMMARY:Chautauquas of Three Local Historical Figures
DESCRIPTION:Chautauquas of Three Local Historical Figures\n\n at Dangberg Historic Park\n\nMINDEN\, Nev.  Chautauqua performers Dana Blane\, Larry Lippmann and Mike Trute will portray local historical figures Donner Party survivor "Patty Reed"\, Stagecoach driver "Hank Monk" and U.S. Marshall "Warren Wasson" at the Dangberg Home Ranch Historic Park on Wednesday\, July 6\, at 6:30 pm.\n\nPatty Reed was 8 years old when her family joined the movement west to settle in California. As survivors of the ill-fated 1846 Donner Party\, the tremendous hardships they endured left the family destitute. The little doll Patty hid in her clothing survives until this day.  \n\nHank Monk was a legendary stagecoach driver who spent most of his career driving between Carson City\, Lake Tahoe\, and Placerville from the 1850s through the 1880s. Many of his escapades have been shared in print\, most notably in the writings of Mark Twain.  \n\nWarren Wasson came west as a forty-niner and in less than a decade he became one of the early pioneers of Carson Valley.  He was an Indian Agent\, U.S. Marshall\, U.S. Tax Assessor and a military advisor to three of Nevada's Governors.  In the end\, with his disappearance\, he became an enigma.\n\nThe Chautauqua Series is sponsored by Soaring NV\, Bently Enterprises\, Carson Valley Accounting\, Horse Tales Publications\, Carson Valley Times\, Carson Valley Inn and the Frances C. and William P. Smallwood Foundation. This series is also made possible with the assistance of Nevada Humanities\, an independent affiliate of the National Endowment for the Humanities.\n\n \n\nPatty Reed is portrayed by Dana Blane who has lived in Carson Valley since 1991 and has taught in Douglas County for 25 years. In addition she has mentored the drama program at GES. Blane has been fascinated with the Donner Party since 3rd grade after reading the book Patty Reed's Doll\, and she has been portraying Patty Reed for over 27 years. \n\n \n\nHank Monk is portrayed by Larry Lippmann who has been a Douglas County resident for 44 years and has gained much of his public speaking experience as a Douglas High School teacher. Lippmann feels a keen affinity to Hank Monk having been a driver of buses\, limos\, and taxis in the same areas that Hank Monk drove his stagecoach.
X-ALT-DESC;FMTTYPE=text/html:<strong><span style="font-size: 16pt\;"><span style="font-family: times new roman\,serif\;">Chautauquas of Three Local Historical Figures</span></span></strong><br />\n<strong><span style="font-size: 16pt\;"><span style="font-family: times new roman\,serif\;">&nbsp\;at Dangberg Historic Park</span></span></strong><br />\n<span style="font-size: 11pt\;"><span style="font-family: calibri\,sans-serif\;">MINDEN\, Nev.&mdash\;</span></span> <span style="font-size: 11pt\;"><span style="font-family: calibri\,sans-serif\;">Chautauqua performers Dana Blane\, Larry Lippmann and Mike Trute will portray local historical figures Donner Party survivor &ldquo\;Patty Reed&rdquo\;\, Stagecoach driver &ldquo\;Hank Monk&rdquo\; and U.S. Marshall &ldquo\;Warren Wasson&rdquo\; at the Dangberg Home Ranch Historic Park on Wednesday\, July 6\, at 6:30 pm.</span></span><br />\n<span style="background: white\;"><span style="font-size: 11pt\;"><span style="font-family: calibri\,sans-serif\;">Patty Reed was 8 years old when her family joined the movement west to settle in California. As survivors of the ill-fated 1846 Donner Party\, the tremendous hardships they endured left the family destitute. The little doll Patty hid in her clothing survives until this day. </span></span></span>&nbsp\;<br />\n<span style="background: white\;"><span style="font-size: 11pt\;"><span style="font-family: calibri\,sans-serif\;">Hank Monk was a legendary stagecoach driver who spent most of his career driving between Carson City\, Lake Tahoe\, and Placerville from the 1850s through the 1880s. Many of his escapades have been shared in print\, most notably in the writings of Mark Twain.&nbsp\; </span></span></span><br />\n<span style="background: white\;"><span style="font-size: 11pt\;"><span style="font-family: calibri\,sans-serif\;">Warren Wasson came west as a forty-niner and in less than a decade he became one of the early pioneers of Carson Valley.&nbsp\; He was an Indian Agent\, U.S. Marshall\, U.S. Tax Assessor and a military advisor to three of Nevada&rsquo\;s Governors.&nbsp\; In the end\, with his disappearance\, he became an enigma.</span></span></span><br />\n<span style="background: white\;"><span style="font-size: medium\;"><span style="font-family: calibri\;">The Chautauqua Series is sponsored by&nbsp\;</span></span></span><a href="https://www.facebook.com/soaringnv/"><span style="background: white\; text-decoration: none\; text-underline: none\;"><span style="color: windowtext\;"><span style="font-size: medium\;"><span style="font-family: calibri\;">Soaring NV</span></span></span></span></a><span style="background: white\;"><span style="font-size: medium\;"><span style="font-family: calibri\;">\, </span></span></span><a href="https://www.facebook.com/bentlyenterprises/"><span style="background: white\; text-decoration: none\; text-underline: none\;"><span style="color: windowtext\;"><span style="font-size: medium\;"><span style="font-family: calibri\;">Bently Enterprises</span></span></span></span></a><span style="background: white\;"><span style="font-size: medium\;"><span style="font-family: calibri\;">\,&nbsp\;</span></span></span><a href="https://www.facebook.com/Carson-Valley-Accounting-632805416751476/"><span style="background: white\; text-decoration: none\; text-underline: none\;"><span style="color: windowtext\;"><span style="font-size: medium\;"><span style="font-family: calibri\;">Carson Valley Accounting</span></span></span></span></a><span style="background: white\;"><span style="font-size: medium\;"><span style="font-family: calibri\;">\,&nbsp\;</span></span></span><a href="https://www.facebook.com/pages/Horse-Tales-Publications/163031573714496"><span style="background: white\; text-decoration: none\; text-underline: none\;"><span style="color: windowtext\;"><span style="font-size: medium\;"><span style="font-family: calibri\;">Horse Tales Publications</span></span></span></span></a><span style="background: white\;"><span style="font-size: medium\;"><span style="font-family: calibri\;">\,&nbsp\;</span></span></span><a href="https://www.facebook.com/cvalleytimes/"><span style="background: white\; text-decoration: none\; text-underline: none\;"><span style="color: windowtext\;"><span style="font-size: medium\;"><span style="font-family: calibri\;">Carson Valley Times</span></span></span></span></a><span style="background: white\;"><span style="font-size: medium\;"><span style="font-family: calibri\;">\, Carson Valley Inn&nbsp\;and the Frances C. and William P. Smallwood Foundation. This series is also made possible with the assistance of Nevada Humanities\, an independent affiliate of the National Endowment for the Humanities.</span></span></span><br />\n&nbsp\;<br />\n<span style="font-size: medium\;"><span style="font-family: calibri\;"><span style="background: white\;">Patty Reed is portrayed by Dana Blane who has lived in Carson Valley since 1991 and has taught in Douglas County for 25 years.</span> <span style="background: white\;"><span style="font-size: medium\;">In addition she has mentored the drama program at GES. Blane has been fascinated with the Donner Party since 3</span><sup><span style="font-size: small\;">rd</span></sup><span style="font-size: medium\;"> grade after reading the book <em>Patty Reed&#39\;s Doll</em>\, and she has been portraying Patty Reed for over 27 years. </span></span></span></span><br />\n&nbsp\;<br />\n<span style="background: white\;"><span style="font-size: medium\;"><span style="font-family: calibri\;">Hank Monk is portrayed by Larry Lippmann who has been a Douglas County resident for 44 years and has gained much of his public speaking experience as a Douglas High School teacher. Lippmann feels a keen affinity to Hank Monk having been a driver of buses\, limos\, and taxis in the same areas that Hank Monk drove his stagecoach. </span></span></span><br />\n&nbsp\;<br />\n&nbsp\;<br />\n&nbsp\;
LOCATION:Dangberg Historic Park Minden NV
UID:e.820.18960
SEQUENCE:3
DTSTAMP:20260423T184629Z
URL:https://business.carsonvalleynv.org/events/details/chautauquas-of-three-local-historical-figures-07-06-2016-18960
END:VEVENT

END:VCALENDAR
