BEGIN:VCALENDAR
VERSION:2.0
PRODID:-//ChamberMaster//Event Calendar 2.0//EN
METHOD:PUBLISH
X-PUBLISHED-TTL:P3D
REFRESH-INTERVAL:P3D
CALSCALE:GREGORIAN
BEGIN:VEVENT
DTSTART:20150909T140000Z
DTEND:20150909T153000Z
X-MICROSOFT-CDO-ALLDAYEVENT:FALSE
SUMMARY:Chamber Coffee - September
DESCRIPTION:Our monthly Networking event visits the East Fork Gallery in September...doors open at 7A for one on ones and the program begins at 7:30...coffee and a bite to eat are part of the deal\, just $5 for Chamber members...
X-ALT-DESC;FMTTYPE=text/html:Our monthly Networking event visits the East Fork Gallery in September...doors open at 7A for one on ones and the program begins at 7:30...coffee and a bite to eat are part of the deal\, just $5 for Chamber members...
LOCATION:East Fork Gallery 1503 Hwy 395 (The Record Courier Plaza)
UID:e.820.13175
SEQUENCE:3
DTSTAMP:20260426T014821Z
URL:https://business.carsonvalleynv.org/events/details/chamber-coffee-september-09-09-2015-13175
END:VEVENT

END:VCALENDAR
