BEGIN:VCALENDAR
VERSION:2.0
PRODID:-//ChamberMaster//Event Calendar 2.0//EN
METHOD:PUBLISH
X-PUBLISHED-TTL:P3D
REFRESH-INTERVAL:P3D
CALSCALE:GREGORIAN
BEGIN:VEVENT
DTSTART:20221214T150000Z
DTEND:20221214T163000Z
X-MICROSOFT-CDO-ALLDAYEVENT:FALSE
SUMMARY:Chamber Coffee
DESCRIPTION:On the second Wednesday of each month\, the Chamber hosts a traditional small networking event called Chamber Coffee.\n\n\n\nA short presentation on a business topic starts the session\, followed by brief updates from the attendees on who they are and what they've got going on. A continental breakfast (and every now and then\, a full breakfast) and free raffle is included in the $5 cost to Members.
X-ALT-DESC;FMTTYPE=text/html:On the second Wednesday of each month\, the Chamber hosts a traditional small networking event called Chamber Coffee.<br />\n<br />\nA short presentation on a business topic starts the session\, followed by brief updates from the attendees on who they are and what they&rsquo\;ve got going on. A continental breakfast (and every now and then\, a full breakfast) and free raffle is included in the $5 cost to Members.
LOCATION:Carson Valley Museum and Cultural Center (1477 US-395 N\, Gardnerville\, NV 89410)
UID:e.820.39117
SEQUENCE:3
DTSTAMP:20260420T102449Z
URL:https://business.carsonvalleynv.org/events/details/chamber-coffee-12-14-2022-39117
END:VEVENT

END:VCALENDAR
