BEGIN:VCALENDAR
VERSION:2.0
PRODID:-//ChamberMaster//Event Calendar 2.0//EN
METHOD:PUBLISH
X-PUBLISHED-TTL:P3D
REFRESH-INTERVAL:P3D
CALSCALE:GREGORIAN
BEGIN:VEVENT
DTSTART:20251108T210000Z
DTEND:20251108T230000Z
X-MICROSOFT-CDO-ALLDAYEVENT:FALSE
SUMMARY:Carson Valley Quilt Guild Reception
DESCRIPTION:CVAC will be hosting an artist's reception on Saturday\, November 8\, 2025\, 1 pm to 3 pm. Refreshments will be served\, and it is free to the public. Come and meet the quilters and preview their amazing work.
X-ALT-DESC;FMTTYPE=text/html:CVAC will be hosting an artist&rsquo\;s reception on Saturday\, November 8\, 2025\, 1 pm to 3 pm. Refreshments will be served\, and it is free to the public. Come and meet the quilters and preview their amazing work.
LOCATION:Copeland Gallery\, 1572 US Hwy 395\, Minden
UID:e.820.47091
SEQUENCE:3
DTSTAMP:20260423T152016Z
URL:https://business.carsonvalleynv.org/events/details/carson-valley-quilt-guild-reception-47091
END:VEVENT

END:VCALENDAR
