BEGIN:VCALENDAR
VERSION:2.0
PRODID:-//ChamberMaster//Event Calendar 2.0//EN
METHOD:PUBLISH
X-PUBLISHED-TTL:P3D
REFRESH-INTERVAL:P3D
CALSCALE:GREGORIAN
BEGIN:VEVENT
DTSTART:20251213T020000Z
DTEND:20251214T040000Z
X-MICROSOFT-CDO-ALLDAYEVENT:FALSE
SUMMARY:Carson Valley Pops Concert-Winter Concert
DESCRIPTION:The Carson Valley Pops is the community orchestra of Douglas County\, Nevada performing regularly in the Minden and Gardnerville areas\, and offering scholarship monies to local student musicians.
X-ALT-DESC;FMTTYPE=text/html:The Carson Valley Pops is the community orchestra of Douglas County\, Nevada performing regularly in the Minden and Gardnerville areas\, and offering scholarship monies to local student musicians.
LOCATION:CVIC Hall 1602 Esmeralda Ave Minden\, NV 89423
UID:e.820.46981
SEQUENCE:3
DTSTAMP:20260423T163830Z
URL:https://business.carsonvalleynv.org/events/details/carson-valley-pops-concert-winter-concert-12-12-2025-46981
END:VEVENT

END:VCALENDAR
