BEGIN:VCALENDAR
VERSION:2.0
PRODID:-//ChamberMaster//Event Calendar 2.0//EN
METHOD:PUBLISH
X-PUBLISHED-TTL:P3D
REFRESH-INTERVAL:P3D
CALSCALE:GREGORIAN
BEGIN:VEVENT
DTSTART:20150911T020000Z
DTEND:20150911T040000Z
X-MICROSOFT-CDO-ALLDAYEVENT:FALSE
SUMMARY:Carson Valley Museum and Cultural Center Second Thursday Lecture
DESCRIPTION:Guest Speaker\, Robert Stewart\, will discuss the history of Aurora\, Nevada\, founded in 1860 and located in two states. If you like the history of ghost towns\, you'll love this lecture.
X-ALT-DESC;FMTTYPE=text/html:Guest Speaker\, Robert Stewart\, will discuss the history of Aurora\, Nevada\, founded in 1860 and located in two states. If you like the history of ghost towns\, you&#39\;ll love this lecture.
LOCATION:Carson Valley Museum and Cultural Center 1477 US Highway 395 North Gardnerville
UID:e.820.13658
SEQUENCE:3
DTSTAMP:20260426T020201Z
URL:https://business.carsonvalleynv.org/events/details/carson-valley-museum-and-cultural-center-second-thursday-lecture-09-10-2015-13658
END:VEVENT

END:VCALENDAR
