BEGIN:VCALENDAR
VERSION:2.0
PRODID:-//ChamberMaster//Event Calendar 2.0//EN
METHOD:PUBLISH
X-PUBLISHED-TTL:P3D
REFRESH-INTERVAL:P3D
CALSCALE:GREGORIAN
BEGIN:VEVENT
DTSTART:20260131T170000Z
DTEND:20260131T220000Z
X-MICROSOFT-CDO-ALLDAYEVENT:FALSE
SUMMARY:Carson Valley Healing and Wellness Expo 2026
DESCRIPTION:Join us for the Carson Valley Holistic Health & Wellness Fair a gathering of our Valley's most inspiring healers\, wellness practitioners\, and holistic providers. This family-friendly event is your chance to explore the incredible wellness community that has blossomed right here in our backyard. We're hosting this celebration inside the newly remodeled Minden Merc\, an elegant and beautifully restored venue that sets the perfect tone for connection\, learning\, and inspiration. This is the wellness event of the year one you won't want to miss. Whether you're looking to build your personal wellness team\, discover new modalities\, or simply enjoy a day filled with uplifting energy\, you'll find it here. What to Expect ~20 30 local vendors sharing holistic health & wellness services ~Informational booths with education\, demos\, and expert insights ~Raffle prizes at every booth   win as you explore! ~Community connection with neighbors\, practitioners\, and like-minded friends ~A beautiful atmosphere inside the freshly renovated Minden Merc Who Should Attend Anyone curious about holistic or natural wellness Families looking for new local resources People wanting to meet new practitioners or discover new healing options Supporters of local small businesses Anyone who loves community\, energy\, and fresh starts Admission Free to attend ? Come explore\, connect\, and celebrate wellness in a space filled with inspiration\, kindness\, and community. Bring a friend and kick off 2026 with your best health in mind!
X-ALT-DESC;FMTTYPE=text/html:Join us for the Carson Valley Holistic Health &amp\; Wellness Fair a gathering of our Valley&rsquo\;s most inspiring healers\, wellness practitioners\, and holistic providers. This family-friendly event is your chance to explore the incredible wellness community that has blossomed right here in our backyard. We&rsquo\;re hosting this celebration inside the newly remodeled Minden Merc\, an elegant and beautifully restored venue that sets the perfect tone for connection\, learning\, and inspiration. This is the wellness event of the year one you won&rsquo\;t want to miss. Whether you&#39\;re looking to build your personal wellness team\, discover new modalities\, or simply enjoy a day filled with uplifting energy\, you&rsquo\;ll find it here. What to Expect ~20&ndash\;30 local vendors sharing holistic health &amp\; wellness services ~Informational booths with education\, demos\, and expert insights ~Raffle prizes at every booth &mdash\; win as you explore! ~Community connection with neighbors\, practitioners\, and like-minded friends ~A beautiful atmosphere inside the freshly renovated Minden Merc Who Should Attend Anyone curious about holistic or natural wellness Families looking for new local resources People wanting to meet new practitioners or discover new healing options Supporters of local small businesses Anyone who loves community\, energy\, and fresh starts Admission Free to attend ? Come explore\, connect\, and celebrate wellness in a space filled with inspiration\, kindness\, and community. Bring a friend and kick off 2026 with your best health in mind!
LOCATION:The Minden Mercantile 1600 Esmeralda Avenue
UID:e.820.47197
SEQUENCE:3
DTSTAMP:20260423T182455Z
URL:https://business.carsonvalleynv.org/events/details/carson-valley-healing-and-wellness-expo-2026-47197
END:VEVENT

END:VCALENDAR
