BEGIN:VCALENDAR
VERSION:2.0
PRODID:-//ChamberMaster//Event Calendar 2.0//EN
METHOD:PUBLISH
X-PUBLISHED-TTL:P3D
REFRESH-INTERVAL:P3D
CALSCALE:GREGORIAN
BEGIN:VEVENT
DTSTART:20251025T023000Z
DTEND:20251025T043000Z
X-MICROSOFT-CDO-ALLDAYEVENT:FALSE
SUMMARY:Carson Valley Community Theater's presents
DESCRIPTION:Carson Valley Community Theater's presents TBA CVCT's mission is to promote\, create\, design\, and perform theatrical events for the Carson Valley community and the general public. In addition\, the education of and outreach to children and the public are significant missions of the community theater. CVCT works with the Douglas High School Music and Drama Departments to encourage participation on and off stage.
X-ALT-DESC;FMTTYPE=text/html:Carson Valley Community Theater&#39\;s presents TBA CVCT&rsquo\;s mission is to promote\, create\, design\, and perform theatrical events for the Carson Valley community and the general public. In addition\, the education of and outreach to children and the public are significant missions of the community theater. CVCT works with the Douglas High School Music and Drama Departments to encourage participation on and off stage.
LOCATION:CVIC Hall 1602 Esmeralda Ave Minden\, NV 89423
UID:e.820.46976
SEQUENCE:3
DTSTAMP:20260423T135035Z
URL:https://business.carsonvalleynv.org/events/details/carson-valley-community-theater-s-presents-46976
END:VEVENT

END:VCALENDAR
