BEGIN:VCALENDAR
VERSION:2.0
PRODID:-//ChamberMaster//Event Calendar 2.0//EN
METHOD:PUBLISH
X-PUBLISHED-TTL:P3D
REFRESH-INTERVAL:P3D
CALSCALE:GREGORIAN
BEGIN:VEVENT
DTSTART:20251115T030000Z
DTEND:20251115T050000Z
X-MICROSOFT-CDO-ALLDAYEVENT:FALSE
SUMMARY:Carson Valley Arts Council Concert
DESCRIPTION:The Carson Valley Arts Council will kick off its 2025-2026 Concert Series beginning October 10\, bringing diverse music performers from across the country to our local community and schools.
X-ALT-DESC;FMTTYPE=text/html:The Carson Valley Arts Council will kick off its 2025-2026 Concert Series beginning October 10\, bringing diverse music performers from across the country to our local community and schools.
LOCATION:CVIC Hall 1602 Esmeralda Ave Minden\, NV 89423
UID:e.820.46978
SEQUENCE:3
DTSTAMP:20260423T152704Z
URL:https://business.carsonvalleynv.org/events/details/carson-valley-arts-council-concert-11-14-2025-46978
END:VEVENT

END:VCALENDAR
