BEGIN:VCALENDAR
VERSION:2.0
PRODID:-//ChamberMaster//Event Calendar 2.0//EN
METHOD:PUBLISH
X-PUBLISHED-TTL:P3D
REFRESH-INTERVAL:P3D
CALSCALE:GREGORIAN
BEGIN:VEVENT
DTSTART:20251107T170000Z
DTEND:20251108T030000Z
X-MICROSOFT-CDO-ALLDAYEVENT:FALSE
SUMMARY:Carson Valley Art Association Fall Art Show
DESCRIPTION:CVAA offers two art shows for artists and the public. Carson Valley Days and our annual Scholarship Show in November. These are judged shows and offer high-quality art for your home\, office\, or gift-giving.
X-ALT-DESC;FMTTYPE=text/html:CVAA offers two art shows for artists and the public. Carson Valley Days and our annual Scholarship Show in November. These are judged shows and offer high-quality art for your home\, office\, or gift-giving.
LOCATION:CVIC Hall 1602 Esmeralda Ave Minden\, NV 89423
UID:e.820.46977
SEQUENCE:3
DTSTAMP:20260423T152506Z
URL:https://business.carsonvalleynv.org/events/details/carson-valley-art-association-fall-art-show-11-07-2025-46977
END:VEVENT

END:VCALENDAR
