BEGIN:VCALENDAR
VERSION:2.0
PRODID:-//ChamberMaster//Event Calendar 2.0//EN
METHOD:PUBLISH
X-PUBLISHED-TTL:P3D
REFRESH-INTERVAL:P3D
CALSCALE:GREGORIAN
BEGIN:VEVENT
DTSTART:20251215T013000Z
DTEND:20251215T023000Z
X-MICROSOFT-CDO-ALLDAYEVENT:FALSE
SUMMARY:Carols In The Park
DESCRIPTION:The Porch Movement invites you to come join us in the beautiful Minden Park on Dec 14th\, 5:30pm for an evening of Caroling and Hot Cocoa! Together we can bring joy to the neighbors and celebrate the season in a fun and meaningful way. Rumor has it\, we may even have a visit from Santa.
X-ALT-DESC;FMTTYPE=text/html:The Porch Movement invites you to come join us in the beautiful Minden Park on Dec 14th\, 5:30pm for an evening of Caroling and Hot Cocoa! Together we can bring joy to the neighbors and celebrate the season in a fun and meaningful way. Rumor has it\, we may even have a visit from Santa.
LOCATION:Minden Park\, 6th St\, Minden\, NV
UID:e.820.47158
SEQUENCE:3
DTSTAMP:20260423T163558Z
URL:https://business.carsonvalleynv.org/events/details/carols-in-the-park-47158
END:VEVENT

END:VCALENDAR
