BEGIN:VCALENDAR
VERSION:2.0
PRODID:-//ChamberMaster//Event Calendar 2.0//EN
METHOD:PUBLISH
X-PUBLISHED-TTL:P3D
REFRESH-INTERVAL:P3D
CALSCALE:GREGORIAN
BEGIN:VEVENT
DTSTART:20251103T170000Z
DTEND:20251104T000000Z
X-MICROSOFT-CDO-ALLDAYEVENT:FALSE
SUMMARY:Building a Stronger Organizational Culture: Leading Communications
DESCRIPTION:Lead with clarity. Succeed with impact. Extended Studies' Advanced Leadership Academy is powerful training and coaching experience for senior leaders and key team members. During seven courses\, participants learn through proven strategies\, hands-on tools and expert guidance. Courses can be taken in any order. Info: extendedstudies.unr.edu/leadership.html The Nov. 3 course\, building a Stronger Organizational Culture: Leading Communications\, instructor Amy Arias will equip participants with practical tools to navigate tough conversations\, inspire others and foster authentic dialogue. Info: https://bit.ly/3GRuSkS
X-ALT-DESC;FMTTYPE=text/html:Lead with clarity. Succeed with impact. Extended Studies&rsquo\; Advanced Leadership Academy is powerful training and coaching experience for senior leaders and key team members. During seven courses\, participants learn through proven strategies\, hands-on tools and expert guidance. Courses can be taken in any order. Info: extendedstudies.unr.edu/leadership.html The Nov. 3 course\, building a Stronger Organizational Culture: Leading Communications\, instructor Amy Arias will equip participants with practical tools to navigate tough conversations\, inspire others and foster authentic dialogue. Info: https://bit.ly/3GRuSkS
LOCATION:Redfield Campus\, 18600 Wedge Parkway\, Building A\, Reno
UID:e.820.47063
SEQUENCE:3
DTSTAMP:20260423T152517Z
URL:https://business.carsonvalleynv.org/events/details/building-a-stronger-organizational-culture-leading-communications-47063
END:VEVENT

END:VCALENDAR
