BEGIN:VCALENDAR
VERSION:2.0
PRODID:-//ChamberMaster//Event Calendar 2.0//EN
METHOD:PUBLISH
X-PUBLISHED-TTL:P3D
REFRESH-INTERVAL:P3D
CALSCALE:GREGORIAN
BEGIN:VEVENT
DTSTART:20251206T163000Z
DTEND:20251206T200000Z
X-MICROSOFT-CDO-ALLDAYEVENT:FALSE
SUMMARY:Breakfast with Santa
DESCRIPTION:Santa Claus will visit with children and their families throughout the morning. Be sure to bring your camera! Breakfast will consist of golden pancakes and maple syrup\, served with a side of sausage\, plus your choice of beverage -- hot cocoa\, orange juice or coffee.
X-ALT-DESC;FMTTYPE=text/html:Santa Claus will visit with children and their families throughout the morning. Be sure to bring your camera! Breakfast will consist of golden pancakes and maple syrup\, served with a side of sausage\, plus your choice of beverage -- hot cocoa\, orange juice or coffee.
LOCATION:Town Hall
UID:e.820.46955
SEQUENCE:3
DTSTAMP:20260423T163517Z
URL:https://business.carsonvalleynv.org/events/details/breakfast-with-santa-12-06-2025-46955
END:VEVENT

END:VCALENDAR
