BEGIN:VCALENDAR
VERSION:2.0
PRODID:-//ChamberMaster//Event Calendar 2.0//EN
METHOD:PUBLISH
X-PUBLISHED-TTL:P3D
REFRESH-INTERVAL:P3D
CALSCALE:GREGORIAN
BEGIN:VEVENT
DTSTART:20251213T010000Z
DTEND:20251213T030000Z
X-MICROSOFT-CDO-ALLDAYEVENT:FALSE
SUMMARY:Bourbon & Bling
DESCRIPTION:A Holiday Sip & Shop at Louisa Almasi Fine Jewelry Join us for an evening of bourbon\, beautiful jewelry\, and stress-free gifting. Explore curated collections of fine and vintage pieces and discover one-of-a-kind treasures for everyone on your list. We'll have personal wish lists on file   so whether you're shopping for someone special or treating yourself\, you'll know exactly what to choose. Make sure your "Wish List" is on file so your favorite people know exactly what to pick! We'll handle the wrapping   you handle the sipping.
X-ALT-DESC;FMTTYPE=text/html:A Holiday Sip &amp\; Shop at Louisa Almasi Fine Jewelry Join us for an evening of bourbon\, beautiful jewelry\, and stress-free gifting. Explore curated collections of fine and vintage pieces and discover one-of-a-kind treasures for everyone on your list. We&rsquo\;ll have personal wish lists on file &mdash\; so whether you&rsquo\;re shopping for someone special or treating yourself\, you&rsquo\;ll know exactly what to choose. Make sure your &ldquo\;Wish List&rdquo\; is on file so your favorite people know exactly what to pick! We&rsquo\;ll handle the wrapping &mdash\; you handle the sipping.
LOCATION:Louisa Almasi Fine Jewelry\, located in the Black House Collective. 1456 U.S. Hwy 395 N\, Gardnerville\, NV 89410
UID:e.820.47155
SEQUENCE:3
DTSTAMP:20260423T163328Z
URL:https://business.carsonvalleynv.org/events/details/bourbon-bling-47155
END:VEVENT

END:VCALENDAR
