BEGIN:VCALENDAR
VERSION:2.0
PRODID:-//ChamberMaster//Event Calendar 2.0//EN
METHOD:PUBLISH
X-PUBLISHED-TTL:P3D
REFRESH-INTERVAL:P3D
CALSCALE:GREGORIAN
BEGIN:VEVENT
DTSTART:20250913T210000Z
DTEND:20250913T230000Z
X-MICROSOFT-CDO-ALLDAYEVENT:FALSE
SUMMARY:Blind Dog Coffee Lab – Fall Coffee Cupping
DESCRIPTION:Private Coffee Cupping led by Blind Dog Coffee's Master Roaster. Try Limited Edition Blind Dog Coffee Roasts and more. Enjoy a guided tasting of never-before-seen Limited Edition Blind Dog Coffee Roasts\, and embark on a sensory journey in this unforgettable\, hands-on experience. What is a Coffee Cupping? A guided tasting experience where you sample and evaluate different coffees using aroma\, flavor\, and other sensory notes. Exploring various brewing methods\, their impact and how to create your perfect cup.
X-ALT-DESC;FMTTYPE=text/html:Private Coffee Cupping led by Blind Dog Coffee&rsquo\;s Master Roaster. Try Limited Edition Blind Dog Coffee Roasts and more. Enjoy a guided tasting of never-before-seen Limited Edition Blind Dog Coffee Roasts\, and embark on a sensory journey in this unforgettable\, hands-on experience. What is a Coffee Cupping? A guided tasting experience where you sample and evaluate different coffees using aroma\, flavor\, and other sensory notes. Exploring various brewing methods\, their impact and how to create your perfect cup.
LOCATION:Blind Dog Coffee Lab 1663 Lucerne St B\, Minden\, NV 89423
UID:e.820.46970
SEQUENCE:3
DTSTAMP:20260423T121003Z
URL:https://business.carsonvalleynv.org/events/details/blind-dog-coffee-lab-fall-coffee-cupping-46970
END:VEVENT

END:VCALENDAR
