BEGIN:VCALENDAR
VERSION:2.0
PRODID:-//ChamberMaster//Event Calendar 2.0//EN
METHOD:PUBLISH
X-PUBLISHED-TTL:P3D
REFRESH-INTERVAL:P3D
CALSCALE:GREGORIAN
BEGIN:VEVENT
DTSTART:20251108T200000Z
DTEND:20251108T200000Z
X-MICROSOFT-CDO-ALLDAYEVENT:FALSE
SUMMARY:Bingo*
DESCRIPTION:Bingo* *Not official Town Sponsored Event
X-ALT-DESC;FMTTYPE=text/html:Bingo* *Not official Town Sponsored Event
LOCATION:Town Hall
UID:e.820.46953
SEQUENCE:3
DTSTAMP:20260423T163245Z
URL:https://business.carsonvalleynv.org/events/details/bingo-46953
END:VEVENT

END:VCALENDAR
