BEGIN:VCALENDAR
VERSION:2.0
PRODID:-//ChamberMaster//Event Calendar 2.0//EN
METHOD:PUBLISH
X-PUBLISHED-TTL:P3D
REFRESH-INTERVAL:P3D
CALSCALE:GREGORIAN
BEGIN:VEVENT
DTSTART:20160521T170000Z
DTEND:20160521T220000Z
X-MICROSOFT-CDO-ALLDAYEVENT:FALSE
SUMMARY:Bella Vista Farm Grand Opening
DESCRIPTION:Bill & Rocky's Bella Vista Farm LLC\n\nGrand Opening Day\n\n\n\nEARLY BIRD OUTDOOR BREAKFAST 7am - 10am\n\nSpecial Appearance "All Hat No Cattle"\n\nEnjoy the finest outdoors country breakfast using our farms daily picked produce\n\nOpen each Saturday June-September (weather permitting)\n\n\n\n10:00 am - 3:00 pm\n\n1st Annual Skin Cancer Awareness Day at our Farm Benefiting\n\nNevada Cancer Coalition "Sun Smart Schools" Program\n\n\n\nShop our Country Store and Farmers Market
X-ALT-DESC;FMTTYPE=text/html:<div style="text-align: center\;"><span style="font-size: 20px\;">Bill &amp\; Rocky&#39\;s Bella Vista Farm LLC<br />\nGrand Opening Day</span><br />\n<br />\nEARLY BIRD OUTDOOR BREAKFAST 7am - 10am<br />\nSpecial Appearance &quot\;All Hat No Cattle&quot\;<br />\nEnjoy the finest outdoors country breakfast using our farms daily picked produce<br />\nOpen each Saturday June-September (weather permitting)<br />\n<br />\n10:00 am - 3:00 pm<br />\n1st Annual Skin Cancer Awareness Day at our Farm Benefiting<br />\nNevada Cancer Coalition &quot\;Sun Smart Schools&quot\; Program<br />\n<br />\nShop our Country Store and Farmers Market</div>\n
LOCATION:Bill & Rocky's Bella Vista Farm 2685 Billy's Road\, Minden NV
UID:e.820.17111
SEQUENCE:3
DTSTAMP:20260423T221755Z
URL:https://business.carsonvalleynv.org/events/details/bella-vista-farm-grand-opening-05-21-2016-17111
END:VEVENT

END:VCALENDAR
