BEGIN:VCALENDAR
VERSION:2.0
PRODID:-//ChamberMaster//Event Calendar 2.0//EN
METHOD:PUBLISH
X-PUBLISHED-TTL:P3D
REFRESH-INTERVAL:P3D
CALSCALE:GREGORIAN
BEGIN:VEVENT
DTSTART:20150912T003000Z
DTEND:20150912T040000Z
X-MICROSOFT-CDO-ALLDAYEVENT:FALSE
SUMMARY:Austinpalooza
DESCRIPTION:GE and the Carson Valley Inn present Austinpalooza...bands at TJ's Corral with all proceeds going to Austin's House...check back for details as bands are announced...
X-ALT-DESC;FMTTYPE=text/html:GE and the Carson Valley Inn present Austinpalooza...bands at TJ&#39\;s Corral with all proceeds going to Austin&#39\;s House...check back for details as bands are announced...
LOCATION:TJ's Corral at the Carson Valley Inn
UID:e.820.12613
SEQUENCE:3
DTSTAMP:20260426T014807Z
URL:https://business.carsonvalleynv.org/events/details/austinpalooza-09-11-2015-12613
END:VEVENT

END:VCALENDAR
