BEGIN:VCALENDAR
VERSION:2.0
PRODID:-//ChamberMaster//Event Calendar 2.0//EN
METHOD:PUBLISH
X-PUBLISHED-TTL:P3D
REFRESH-INTERVAL:P3D
CALSCALE:GREGORIAN
BEGIN:VEVENT
DTSTART:20150804T010000Z
DTEND:20150804T040000Z
X-MICROSOFT-CDO-ALLDAYEVENT:FALSE
SUMMARY:Animal Guides
DESCRIPTION:Taught by Shannon Roberts\n\nThe concept of animal guides is found in most indigenous cultures. By looking at how animals live their lives it is possible to find messages for how we can better live our own lives. We will look at various types of animals guides and provide students with exercises to connect to their own spirit animals. We will also do some fun divination using Medicine Cards which are a specific brand of animal guide cards.\n\nThis is a one day 3 hour class. The cost is only $60. Registration and payment is required at least 1 week before each class. Go to the website to register and pay.---\n\nhttp://www.heart2heartschool.net/course-schedule.html\n\nYou must email or call if you plan to attend:\n\nsbarrydc@heart2heartschool.net\n\n775-782-3481
X-ALT-DESC;FMTTYPE=text/html:Taught by Shannon Roberts<br />\nThe concept of animal guides is found in most indigenous cultures. By looking at how animals live their lives it is possible to find messages for how we can better live our own lives. We will look at various types of animals guides and provide students with exercises to connect to their own spirit animals. We will also do some fun divination using Medicine Cards which are a specific brand of animal guide cards.<br />\nThis is a one day 3 hour class. The cost is only $60. Registration and payment is required at least 1 week before each class. Go to the website to register and pay.---<br />\n<a href="http://www.heart2heartschool.net/course-schedule.html" rel="nofollow nofollow" target="_blank">http://www.heart2heartschool.net/course-schedule.html</a><br />\nYou must email or call if you plan to attend:<br />\nsbarrydc@heart2heartschool.net<br />\n775-782-3481
LOCATION:1624 Highway 395\, N\, Suite #1\, Minden\, NV 89423
UID:e.820.13612
SEQUENCE:3
DTSTAMP:20260426T032541Z
URL:https://business.carsonvalleynv.org/events/details/animal-guides-08-03-2015-13612
END:VEVENT

END:VCALENDAR
