BEGIN:VCALENDAR
VERSION:2.0
PRODID:-//ChamberMaster//Event Calendar 2.0//EN
METHOD:PUBLISH
X-PUBLISHED-TTL:P3D
REFRESH-INTERVAL:P3D
CALSCALE:GREGORIAN
BEGIN:VEVENT
DTSTART:20220102T190000Z
DTEND:20220102T230000Z
X-MICROSOFT-CDO-ALLDAYEVENT:FALSE
SUMMARY:Animal Adoptions
DESCRIPTION:The Douglas Animal Welfare Group has discounted adoption fees for adult animals on Sundays.
X-ALT-DESC;FMTTYPE=text/html:The Douglas Animal Welfare Group has discounted adoption fees for adult animals on Sundays.
LOCATION:Douglas County Animal Shelter 921 Pinenut Road\, Gardnerville\, NV 89410
UID:e.820.35195
SEQUENCE:3
DTSTAMP:20260422T110119Z
URL:https://business.carsonvalleynv.org/events/details/animal-adoptions-01-02-2022-35195
END:VEVENT

END:VCALENDAR
