BEGIN:VCALENDAR
VERSION:2.0
PRODID:-//ChamberMaster//Event Calendar 2.0//EN
METHOD:PUBLISH
X-PUBLISHED-TTL:P3D
REFRESH-INTERVAL:P3D
CALSCALE:GREGORIAN
BEGIN:VEVENT
DTSTART:20251025T023000Z
DTEND:20251102T220000Z
X-MICROSOFT-CDO-ALLDAYEVENT:FALSE
SUMMARY:A Little Country Time A Country Music Cabaret
DESCRIPTION:Putting together a program of country music is a daunting task. There is so much wonderful music out there and there are so many sub-genres of country\, from folk and bluegrass to gospel\, country rock and country pop. There is a common perception that country music is mostly cheatin' songs and drinking songs\, but there is so much more. For this show\, we will be performing an eclectic mix of country music. The selection includes music that dates back nearly 100 years and songs written less than ten years ago. There are songs that everyone in the audience will find familiar and songs that many in our audience have never heard before. Our selection of songs includes some thought provoking works as well as songs with a strong positive message. Oh\, and some heartbreak songs. We promise something for everyone. So be ready to tap your toes or wipe a tear from your eye!
X-ALT-DESC;FMTTYPE=text/html:Putting together a program of country music is a daunting task. There is so much wonderful music out there and there are so many sub-genres of country\, from folk and bluegrass to gospel\, country rock and country pop. There is a common perception that country music is mostly cheatin&#39\; songs and drinking songs\, but there is so much more. For this show\, we will be performing an eclectic mix of country music. The selection includes music that dates back nearly 100 years and songs written less than ten years ago. There are songs that everyone in the audience will find familiar and songs that many in our audience have never heard before. Our selection of songs includes some thought provoking works as well as songs with a strong positive message. Oh\, and some heartbreak songs. We promise something for everyone. So be ready to tap your toes or wipe a tear from your eye!
LOCATION:CVIC Hall 1604 Esmeralda Avenue Minden\, nv
UID:e.820.47067
SEQUENCE:3
DTSTAMP:20260423T152631Z
URL:https://business.carsonvalleynv.org/events/details/a-little-country-time-a-country-music-cabaret-47067
END:VEVENT

END:VCALENDAR
