BEGIN:VCALENDAR
VERSION:2.0
PRODID:-//ChamberMaster//Event Calendar 2.0//EN
METHOD:PUBLISH
X-PUBLISHED-TTL:P3D
REFRESH-INTERVAL:P3D
CALSCALE:GREGORIAN
BEGIN:VEVENT
DTSTART:20250921T200000Z
DTEND:20250921T210000Z
X-MICROSOFT-CDO-ALLDAYEVENT:FALSE
SUMMARY:A History Program-"What Happens in Vegas"
DESCRIPTION:A free history program..."What Happens in Vegas" In a town that probably created the term "re-invent itself"...where billion-dollar casinos can become outdated in twenty years and the most popular local politician is a former mob boss attorney\, there is no shortage of unique\, interesting and amusing history. Las Vegas has been walking to the beat of a different drum since the first Paiute settled along its desert meadow thousands of years ago. Join local historians David & Gayle Woodruff as they double down of some of their favorite true tales of Sin City History. Seating is limited Reservations are required for this free program\, click below or call David at 760 920-8061 for more information.
X-ALT-DESC;FMTTYPE=text/html:A free history program...&quot\;What Happens in Vegas&quot\; In a town that probably created the term &quot\;re-invent itself&quot\;...where billion-dollar casinos can become outdated in twenty years and the most popular local politician is a former mob boss attorney\, there is no shortage of unique\, interesting and amusing history. Las Vegas has been walking to the beat of a different drum since the first Paiute settled along its desert meadow thousands of years ago. Join local historians David &amp\; Gayle Woodruff as they double down of some of their favorite true tales of Sin City History. Seating is limited Reservations are required for this free program\, click below or call David at 760 920-8061 for more information.
LOCATION:Minden Mill Distilling
UID:e.820.47069
SEQUENCE:3
DTSTAMP:20260423T121504Z
URL:https://business.carsonvalleynv.org/events/details/a-history-program-what-happens-in-vegas-47069
END:VEVENT

END:VCALENDAR
