BEGIN:VCALENDAR
VERSION:2.0
PRODID:-//ChamberMaster//Event Calendar 2.0//EN
METHOD:PUBLISH
X-PUBLISHED-TTL:P3D
REFRESH-INTERVAL:P3D
CALSCALE:GREGORIAN
BEGIN:VEVENT
DTSTART:20161005T233000Z
DTEND:20161006T013000Z
X-MICROSOFT-CDO-ALLDAYEVENT:FALSE
SUMMARY:A Gathering of Local Authors
DESCRIPTION:The Douglas County Public Library in Minden presents A Gathering of Local Authors on Wednesday\, October 5 from 4:30 to 6:30 p.m. This free event will feature appearances by Todd Borg and Mike White. Other participating authors include: Mary Ansari\; Ken Beaton\; Tracy Clark\; Tammy Grace\; Sandie La Nae\; Bill "Wade" Morgan\; Mary Randall\; Jerry and Janine Sprout\; Lin Wilder\; and Kimberly Wilkes. They will sell their books\, meet readers\, and sign autographs.
X-ALT-DESC;FMTTYPE=text/html:The Douglas County Public Library in Minden presents A Gathering of Local Authors on Wednesday\, October 5 from 4:30 to 6:30 p.m. This free event will feature appearances by Todd Borg and Mike White. Other participating authors include: Mary Ansari\; Ken Beaton\; Tracy Clark\; Tammy Grace\; Sandie La Nae\; Bill &ldquo\;Wade&rdquo\; Morgan\; Mary Randall\; Jerry and Janine Sprout\; Lin Wilder\; and Kimberly Wilkes. They will sell their books\, meet readers\, and sign autographs.
LOCATION:Douglas County Public Library in Minden
UID:e.820.21034
SEQUENCE:3
DTSTAMP:20260423T135937Z
URL:https://business.carsonvalleynv.org/events/details/a-gathering-of-local-authors-21034
END:VEVENT

END:VCALENDAR
