BEGIN:VCALENDAR
VERSION:2.0
PRODID:-//ChamberMaster//Event Calendar 2.0//EN
METHOD:PUBLISH
X-PUBLISHED-TTL:P3D
REFRESH-INTERVAL:P3D
CALSCALE:GREGORIAN
BEGIN:VEVENT
DTSTART:20150927T210000Z
DTEND:20150927T220000Z
X-MICROSOFT-CDO-ALLDAYEVENT:FALSE
SUMMARY:A Bad Year For Tomatoes
DESCRIPTION:Join us for this hilarious production dealing with the misfortunes of a famous television actress who seeks to "get away from it all" in a small New England town. Fed up with the pressures and demands of her acting career\, the famous Myra Marlowe leases a house in Beaver Haven and settles down to write her autobiography. In an attempt to shoo her nosy\, omnipresent neighbors away\, Myra invents a mad\, homicidal sister. The ruse works well\, at first\, but complications result when the local handyman develops an affection for "Sister Sadie" and some of the more officious ladies decide it is their Christian duty to save the poor demented Sadie's soul. In desperation Myra announces that her imaginary sibling has suddenly gone off to Boston which brings on the sheriff and the suspicion of murder!
X-ALT-DESC;FMTTYPE=text/html:Join us for this hilarious production dealing with the misfortunes of a famous television actress who seeks to &quot\;get away from it all&quot\; in a small New England town. Fed up with the pressures and demands of her acting career\, the famous Myra Marlowe leases a house in Beaver Haven and settles down to write her autobiography. In an attempt to shoo her nosy\, omnipresent neighbors away\, Myra invents a mad\, homicidal sister. The ruse works well\, at first\, but complications result when the local handyman develops an affection for &quot\;Sister Sadie&quot\; and some of the more officious ladies decide it is their Christian duty to save the poor demented Sadie&#39\;s soul. In desperation Myra announces that her imaginary sibling has suddenly gone off to Boston which brings on the sheriff and the suspicion of murder!
LOCATION:CVIC Hall 1604 Esmeralda Ave. Minden\, Nv 89423
UID:e.820.13710
SEQUENCE:3
DTSTAMP:20260426T014838Z
URL:https://business.carsonvalleynv.org/events/details/a-bad-year-for-tomatoes-09-27-2015-13710
END:VEVENT

END:VCALENDAR
