BEGIN:VCALENDAR
VERSION:2.0
PRODID:-//ChamberMaster//Event Calendar 2.0//EN
METHOD:PUBLISH
X-PUBLISHED-TTL:P3D
REFRESH-INTERVAL:P3D
CALSCALE:GREGORIAN
BEGIN:VEVENT
DTSTART;VALUE=DATE:20150926
DTEND;VALUE=DATE:20150928
TRANSP:TRANSPARENT
X-MICROSOFT-CDO-ALLDAYEVENT:TRUE
SUMMARY:96th Annual Candy Dance
DESCRIPTION:The Town of Genoa hosts it's annual Candy Dance Arts and Crafts Faire\n\nWith over 300 craft and food vendors\, it draws thousands to Genoa.\n\n	\n		\n			\n			\n			Dinner-Dance: Tickets and Information\n\n			\n				Saturday\, September 26th in the Genoa Town Park from 4:30 to 10 p.m. with dinner service starting at 5:30 p.m.\n				DINNER TICKETS: Adults = $28\; Children = $20\, ages 12 and under. Contact the Town Office. TABLE SPACE IS LIMITED!\n				1919 Society Tables: $50 per person\, $450 per table of 10. (Includes reserved seating and special amenities.)\n				DANCE ONLY TICKETS: $20 per person. Contact the Town Office.\n				Dinner Catered By: CARSON CITY BBQ   ALL YOU CAN EAT!\n				DINNER TICKETS SELL OUT FAST! Purchase them ASAP to reserve a seat at the Candy Dance Dinner.\n			\n\n			The 2015 Candy Dance Dinner  will be held on Saturday evening from 5:30 to 7:30 p.m. at the Genoa Town Park on Nixon Street. The Dance and and a No-Host bar will start at 4:30 p.m. and shut down at 10 p.m.
X-ALT-DESC;FMTTYPE=text/html:The Town of Genoa hosts it&#39\;s annual Candy Dance Arts and Crafts Faire<br />\nWith over 300 craft and food vendors\, it draws thousands to Genoa.\n<table class="twoColumn">\n	<tbody>\n		<tr>\n			<td height="194" width="46%">\n			<div class="imgBoxLeft">\n			<h2>Dinner-Dance: Tickets and Information</h2>\n\n			<ol>\n				<li><strong>Saturday\, September 26th</strong> in the <strong>Genoa Town Park</strong> from 4:30 to 10 p.m. with dinner service starting at 5:30 p.m.</li>\n				<li><span class="style21"><strong><font color="#0033cc">DINNER TICKETS:</font></strong></span> Adults = <strong>$28</strong>\; Children = <strong>$20</strong>\, ages 12 and under. Contact the Town Office. <span class="style21"><strong><font color="#0033cc">TABLE SPACE IS LIMITED!</font></strong></span></li>\n				<li><span class="style20"><font color="#0033cc"><strong>1919 Society</strong><strong> </strong><strong>Tables</strong><strong>:</strong></font></span> <strong>$50</strong> per person\, <strong>$450</strong> per table of 10. (Includes reserved seating and special amenities.)</li>\n				<li><span class="style22"><strong><font color="#cc0000">DANCE ONLY TICKETS:</font></strong></span> <strong>$20</strong> per person. Contact the Town Office.</li>\n				<li>Dinner Catered By: <strong>CARSON CITY BBQ &ndash\; <em>ALL YOU CAN EAT!</em></strong></li>\n				<li><span class="style21"><strong><font color="#0033cc">DINNER TICKETS SELL OUT FAST!</font></strong></span> Purchase them ASAP to reserve a seat at the Candy Dance Dinner.</li>\n			</ol>\n\n			<p>The <strong>2015 Candy Dance Dinner </strong> will be held on Saturday evening from 5:30 to 7:30 p.m. at the Genoa Town Park on Nixon Street. The Dance and and a No-Host bar will start at 4:30 p.m. and shut down at 10 p.m.</p>\n			</div>\n			</td>\n			<td rowspan="2" width="54%">\n			<h2 style="text-align: center\;">&nbsp\;</h2>\n			<br />\n			&nbsp\;</td>\n		</tr>\n	</tbody>\n</table>\n
LOCATION:Town of Genoa
UID:e.820.13675
SEQUENCE:3
DTSTAMP:20260426T015240Z
URL:https://business.carsonvalleynv.org/events/details/96th-annual-candy-dance-09-26-2015-13675
END:VEVENT

END:VCALENDAR
