BEGIN:VCALENDAR
VERSION:2.0
PRODID:-//ChamberMaster//Event Calendar 2.0//EN
METHOD:PUBLISH
X-PUBLISHED-TTL:P3D
REFRESH-INTERVAL:P3D
CALSCALE:GREGORIAN
BEGIN:VEVENT
DTSTART:20260131T170000Z
DTEND:20260131T200000Z
X-MICROSOFT-CDO-ALLDAYEVENT:FALSE
SUMMARY:5th Annual Seed Swap
DESCRIPTION:University of Nevada\, Reno Extension Master Gardener's of Douglas County 5th annual Seed Swap. Bring seeds to share\, get seeds to plant and meet a new garden friend along the way. $5 entry fee All proceeds benefit the UNR Extension Master Gardener Program of Douglas County. (you do not need seeds to participate in this event)
X-ALT-DESC;FMTTYPE=text/html:University of Nevada\, Reno Extension Master Gardener&#39\;s of Douglas County 5th annual Seed Swap. Bring seeds to share\, get seeds to plant and meet a new garden friend along the way. $5 entry fee All proceeds benefit the UNR Extension Master Gardener Program of Douglas County. (you do not need seeds to participate in this event)
LOCATION:Douglas County Community Center
UID:e.820.47191
SEQUENCE:3
DTSTAMP:20260423T182042Z
URL:https://business.carsonvalleynv.org/events/details/5th-annual-seed-swap-47191
END:VEVENT

END:VCALENDAR
