BEGIN:VCALENDAR
VERSION:2.0
PRODID:-//ChamberMaster//Event Calendar 2.0//EN
METHOD:PUBLISH
X-PUBLISHED-TTL:P3D
REFRESH-INTERVAL:P3D
CALSCALE:GREGORIAN
BEGIN:VEVENT
DTSTART;VALUE=DATE:20160604
DTEND;VALUE=DATE:20160606
TRANSP:TRANSPARENT
X-MICROSOFT-CDO-ALLDAYEVENT:TRUE
SUMMARY:27th Annual Kids' Fishing Derby
DESCRIPTION:27th Annual Kids' Fishing Derby. For all kids ages 3 - 12. Tickets are free\; however you must pre-register to receive a free session ticket. Derby hats\, t-shirts and other resale items will be available for purchase. Raffle tickets are available for $1.00 each or 6 for $5.00. Pre-registration begins April 1\,2016 at three locations. Registration will continue daily through May Saturdays 10:00am - 1:00pm at Walgreens in Gardnerville. Monday - Friday 6:00am - 8:00pm at the Community Center\, and also available at Accolades Trophies & Engraving. http://www.carsonvalleynv.org/list/member/accolades-trophies-engraving-10003
X-ALT-DESC;FMTTYPE=text/html:27th Annual Kids&#39\; Fishing Derby. For all kids ages 3 - 12. Tickets are free\; however you must pre-register to receive a free session ticket. Derby hats\, t-shirts and other resale items will be available for purchase. Raffle tickets are available for $1.00 each or 6 for $5.00. Pre-registration begins April 1\,2016 at three locations. Registration will continue daily through May Saturdays 10:00am - 1:00pm at Walgreens in Gardnerville. Monday - Friday 6:00am - 8:00pm at the Community Center\, and also available at Accolades Trophies &amp\; Engraving.&nbsp\;<a href="http://www.carsonvalleynv.org/list/member/accolades-trophies-engraving-10003">http://www.carsonvalleynv.org/list/member/accolades-trophies-engraving-10003</a> &nbsp\;<br />\n&nbsp\;
LOCATION:Lampe Park
UID:e.820.17432
SEQUENCE:3
DTSTAMP:20260423T203130Z
URL:https://business.carsonvalleynv.org/events/details/27th-annual-kids-fishing-derby-06-04-2016-17432
END:VEVENT

END:VCALENDAR
